BEGIN:VCALENDAR
VERSION:2.0
PRODID:-//Crescere Leggendo - ECPv4.9.12//NONSGML v1.0//EN
CALSCALE:GREGORIAN
METHOD:PUBLISH
X-WR-CALNAME:Crescere Leggendo
X-ORIGINAL-URL:http://crescereleggendo.it
X-WR-CALDESC:Eventi per Crescere Leggendo
BEGIN:VTIMEZONE
TZID:Europe/Rome
BEGIN:DAYLIGHT
TZOFFSETFROM:+0100
TZOFFSETTO:+0200
TZNAME:CEST
DTSTART:20140330T010000
END:DAYLIGHT
BEGIN:STANDARD
TZOFFSETFROM:+0200
TZOFFSETTO:+0100
TZNAME:CET
DTSTART:20141026T010000
END:STANDARD
END:VTIMEZONE
BEGIN:VEVENT
DTSTART;VALUE=DATE:20141210
DTEND;VALUE=DATE:20141211
DTSTAMP:20260423T135222
CREATED:20141103T151112Z
LAST-MODIFIED:20141103T151112Z
UID:2615-1418169600-1418255999@crescereleggendo.it
SUMMARY:Raccontare il mare
DESCRIPTION:Incontri con le classi del secondo ciclo della scuola primaria\nA cura di Chiara Carminati \nGli appassionati di mare lo sanno: non ci sono abbastanza parole per raccontarlo. Forse per questo i poeti ne sono da sempre affascinati\, i narratori inseguono le storie delle sue creature e gli scienziati non smettono di creare nuovi nomi per i suoi misteri e le sue profondità.\nA partire dalle ricerche condotte per realizzare il libro Mare (Rizzoli 2013)\, pensato per raccontare il “grande blu” ai bambini attraverso gli occhi della poesia e della biologia marina\, durante l’incontro salperemo a bordo di libri che raccontano grandi storie ambientate sulle rive e sulle onde\, e che nel raccontare necessariamente trasmettono saperi\, scoperte e conoscenze intorno al mondo sommerso e alle sue creature. Esploreremo anche il patrimonio dei libri sulla biologia e sugli animali\, presenti in biblioteca\, per creare una connessione tra narrativa e divulgazione scientifica e suggerire ai partecipanti possibili percorsi di ricerca e di approfondimento. \n
URL:http://crescereleggendo.it/evento/raccontare-il-mare-3/
LOCATION:San Giovanni al Natisone
CATEGORIES:PERCORSO con Chiara Carminati
END:VEVENT
BEGIN:VEVENT
DTSTART;VALUE=DATE:20141210
DTEND;VALUE=DATE:20141211
DTSTAMP:20260423T135222
CREATED:20141112T115006Z
LAST-MODIFIED:20141112T115006Z
UID:2641-1418169600-1418255999@crescereleggendo.it
SUMMARY:Perché? percorso multimediale
DESCRIPTION:\n\nIncontri in biblioteca o a scuola con le classi del primo e secondo ciclo della scuola primaria\n a cura di Damatrà onlus \n“Bambini e scienziati hanno almeno due cose in comune. Entrambi possiedono il dono di provare stupore davanti a fenomeni della natura apparentemente banali […] Ed entrambi reagiscono allo stupore ponendo delle domande”. \nUn percorso che attraverso la lettura dei libri\, il racconto di vite dedicate alla ricerca scientifica e la visione di documenti video selezionati vuole accompagnare i bambini alla scoperta di ambienti\, persone\, viaggi\, storie capaci di incuriosire e fare nascere domande.\nUn’esperienza di ascolti diversi in cui incontrare la curiosità che nasce dalla capacità di osservare con incanto e pazienza. Narrare la scienza per capire che coltivare il piacere delle domande ha più importanza che conoscere le risposte ed è il primo seme capace di generare conoscenza e per guardare agli errori con fiducia\, dal momento che possono rappresentare una nuova strada da percorrere.\nCon proposte bibliografiche diverse il percorso si rivolge ai bambini del primo ciclo della scuola primaria\, classi I e II\, e al secondo ciclo\, classi III\, IV e V. \n‘Perché’ può essere fatto con tre classi per volta con due operatori\, oppure con la singola classe con un operatore. A richiesta la versione bookspot. \n\n\n
URL:http://crescereleggendo.it/evento/perche-percorso-multimediale-9/
LOCATION:biblioteca di Porpetto
CATEGORIES:PERCORSO con Damatrà onlus
END:VEVENT
BEGIN:VEVENT
DTSTART;VALUE=DATE:20141210
DTEND;VALUE=DATE:20141211
DTSTAMP:20260423T135222
CREATED:20141119T144056Z
LAST-MODIFIED:20141119T144056Z
UID:2652-1418169600-1418255999@crescereleggendo.it
SUMMARY:Perché? percorso multimediale
DESCRIPTION:\n\nIncontri in biblioteca o a scuola con le classi del primo e secondo ciclo della scuola primaria\n a cura di Damatrà onlus \n“Bambini e scienziati hanno almeno due cose in comune. Entrambi possiedono il dono di provare stupore davanti a fenomeni della natura apparentemente banali […] Ed entrambi reagiscono allo stupore ponendo delle domande”. \nUn percorso che attraverso la lettura dei libri\, il racconto di vite dedicate alla ricerca scientifica e la visione di documenti video selezionati vuole accompagnare i bambini alla scoperta di ambienti\, persone\, viaggi\, storie capaci di incuriosire e fare nascere domande.\nUn’esperienza di ascolti diversi in cui incontrare la curiosità che nasce dalla capacità di osservare con incanto e pazienza. Narrare la scienza per capire che coltivare il piacere delle domande ha più importanza che conoscere le risposte ed è il primo seme capace di generare conoscenza e per guardare agli errori con fiducia\, dal momento che possono rappresentare una nuova strada da percorrere.\nCon proposte bibliografiche diverse il percorso si rivolge ai bambini del primo ciclo della scuola primaria\, classi I e II\, e al secondo ciclo\, classi III\, IV e V. \n‘Perché’ può essere fatto con tre classi per volta con due operatori\, oppure con la singola classe con un operatore. A richiesta la versione bookspot. \n\n\n
URL:http://crescereleggendo.it/evento/perche-percorso-multimediale-12/
LOCATION:biblioteca di Gonars
CATEGORIES:PERCORSO con Damatrà onlus
END:VEVENT
END:VCALENDAR