BEGIN:VCALENDAR
VERSION:2.0
PRODID:-//Crescere Leggendo - ECPv4.9.12//NONSGML v1.0//EN
CALSCALE:GREGORIAN
METHOD:PUBLISH
X-WR-CALNAME:Crescere Leggendo
X-ORIGINAL-URL:http://crescereleggendo.it
X-WR-CALDESC:Eventi per Crescere Leggendo
BEGIN:VTIMEZONE
TZID:Europe/Rome
BEGIN:DAYLIGHT
TZOFFSETFROM:+0100
TZOFFSETTO:+0200
TZNAME:CEST
DTSTART:20150329T010000
END:DAYLIGHT
BEGIN:STANDARD
TZOFFSETFROM:+0200
TZOFFSETTO:+0100
TZNAME:CET
DTSTART:20151025T010000
END:STANDARD
END:VTIMEZONE
BEGIN:VEVENT
DTSTART;VALUE=DATE:20150531
DTEND;VALUE=DATE:20150601
DTSTAMP:20260421T182345
CREATED:20150525T082223Z
LAST-MODIFIED:20150525T082312Z
UID:3321-1433030400-1433116799@crescereleggendo.it
SUMMARY:6^ BIBLIOFESTA CRESCERE LEGGENDO CON BISCÙ
DESCRIPTION:6^ BIBLIOFESTA CRESCERE LEGGENDO CON BISCÙ – Narrare la scienza\nSACILE – Piazza del Popolo domenica 31 maggio 2015 dalle ore 15.30 \na cura della Biblioteca civica ‘Romano Della Valentina’ di Sacile con il patrocinio dell’AIB Fvg:\nUna intera giornata in compagnia di letture\, mostre\, laboratori\, esplorazioni\, mini tour\, nel centro storico. Per bambini e famiglie. \nper info: Biblioteca civica di Sacile viale Trieste n°34\ntel: 0434.734822 / e-mail: biblioteca@bibliotecasacile.191.it\norari: lunedì 15.00-18.30 / martedì 10.00-12.00 e 15.00-18.30\nmercoledì 10.00-12.00 e 15.00-18.30 / giovedì 10.00-12.00\nvenerdì 10.00-12.00 e 15.00-18.30 / sabato 9.00-12.00 \nMappa-programma: \n \n \n
URL:http://crescereleggendo.it/evento/6bibliofesta-crescere-leggendo-con-biscu-narrare-la-scienza-sacile-domenica-31-maggio-2015/
LOCATION:Sacile
CATEGORIES:ALTRE ATTIVITÀ
END:VEVENT
END:VCALENDAR