BEGIN:VCALENDAR
VERSION:2.0
PRODID:-//Crescere Leggendo - ECPv4.9.12//NONSGML v1.0//EN
CALSCALE:GREGORIAN
METHOD:PUBLISH
X-WR-CALNAME:Crescere Leggendo
X-ORIGINAL-URL:http://crescereleggendo.it
X-WR-CALDESC:Eventi per Crescere Leggendo
BEGIN:VTIMEZONE
TZID:Europe/Rome
BEGIN:DAYLIGHT
TZOFFSETFROM:+0100
TZOFFSETTO:+0200
TZNAME:CEST
DTSTART:20150329T010000
END:DAYLIGHT
BEGIN:STANDARD
TZOFFSETFROM:+0200
TZOFFSETTO:+0100
TZNAME:CET
DTSTART:20151025T010000
END:STANDARD
END:VTIMEZONE
BEGIN:VEVENT
DTSTART;TZID=Europe/Rome:20150702T203000
DTEND;TZID=Europe/Rome:20150702T220000
DTSTAMP:20260426T023558
CREATED:20150611T092439Z
LAST-MODIFIED:20150611T092553Z
UID:3337-1435869000-1435874400@crescereleggendo.it
SUMMARY:MILLE SOLI DA GUARDARE
DESCRIPTION:Dal testo di Fabian Negrin\, Mille giorni e una notte.\nNon ci fermiamo mai a pensare che tra tutte le stelle\, il sole è quella più vicina: stella madre del nostro sistema attorno a cui tutti ruotiamo.\nQuesta è la storia di Ravidara\, un solaiolo che fabbrica ogni sole che la gente del suo paese vede: un sole per ogni giorno e un giorno per ogni sole.\nSeguirà un intervento divulgativo per accompagnare bambini e adulti alla scoperta della superficie solare (protuberanze\, brillamenti\, macchie solari e i grandi getti di idrogeno infuocato).\n(in caso di maltempo Sala consiliare Palazzo Colossis)\nL’attività rientra all’interno di ‘Biblioteche in cortile 2015’ organizzato da Servizio Bibliotecario Convezionato dello Spilimberghese \nprogramma completo: Biblioteche in cortile 2015_programma\n \n
URL:http://crescereleggendo.it/evento/mille-soli-da-guardare/
LOCATION:Meduno\, Cortile Palazzo Colossis
CATEGORIES:LETTURE con Damatrà onlus
END:VEVENT
END:VCALENDAR