BEGIN:VCALENDAR
VERSION:2.0
PRODID:-//Crescere Leggendo - ECPv4.9.12//NONSGML v1.0//EN
CALSCALE:GREGORIAN
METHOD:PUBLISH
X-WR-CALNAME:Crescere Leggendo
X-ORIGINAL-URL:http://crescereleggendo.it
X-WR-CALDESC:Eventi per Crescere Leggendo
BEGIN:VTIMEZONE
TZID:Europe/Rome
BEGIN:DAYLIGHT
TZOFFSETFROM:+0100
TZOFFSETTO:+0200
TZNAME:CEST
DTSTART:20170326T010000
END:DAYLIGHT
BEGIN:STANDARD
TZOFFSETFROM:+0200
TZOFFSETTO:+0100
TZNAME:CET
DTSTART:20171029T010000
END:STANDARD
END:VTIMEZONE
BEGIN:VEVENT
DTSTART;VALUE=DATE:20170330
DTEND;VALUE=DATE:20170331
DTSTAMP:20260423T123059
CREATED:20170210T152019Z
LAST-MODIFIED:20170210T152019Z
UID:5953-1490832000-1490918399@crescereleggendo.it
SUMMARY:IN-CON-DI-A-TRI-A-MO-CI!
DESCRIPTION:Incontri di narrazione tra albi illustrati\, silent books e parole per ri-conoscere insieme la prosocialità.\nin biblioteca o a scuola per tutte le classi della scuola primaria\na cura di 0432 Associazione culturale \nIl percorso ha come filo conduttore l’idea base della prosocialità\, ovvero coltivare comportamenti positivi verso gli altri senza alcuna finalità se non quella di stare bene insieme. Attraverso racconti tratti da albi illustrati (A che pensi? ed. Orecchio Acerbo\, Chi vorresti essere? ed. Kalandraka)\, visioni e narrazioni in gruppo di silent books (La gara delle coccinelle\, ed. Terre di Mezzo) e racconti orali (In una notte di temporale\, ed. Salani) si scopriranno le emozioni che proviamo\, la diversità di questi sentimenti e la possibilità di accettare mondi vicini-lontani dal nostro convivendo con rispetto. Guida privilegiata di questo viaggio saranno le parole intraducibili che arrivano dall’ ”altro”: ricche di fascino e possibilità\, vere o proprie porte verso altri mondi e scoperte (Lost in translation\, ed. Marcos y Marcos). \n
URL:http://crescereleggendo.it/evento/in-con-di-a-tri-a-mo-ci-47/
LOCATION:Biblioteca di Casarsa della Delizia
CATEGORIES:Attività con Associazione culturale 0432
END:VEVENT
BEGIN:VEVENT
DTSTART;VALUE=DATE:20170330
DTEND;VALUE=DATE:20170331
DTSTAMP:20260423T123059
CREATED:20170306T105715Z
LAST-MODIFIED:20170306T105715Z
UID:6149-1490832000-1490918399@crescereleggendo.it
SUMMARY:FACCIAMO CHE ERO… / LIBRI\, STORIE E ALTRI BAGAGLI A MANO
DESCRIPTION:Incontri in biblioteca o a scuola per tutte le classi della scuola primaria e classe I della scuola secondaria di primo grado\n(con bibliografie differenziate in base all’età dei bambini)\na cura di Damatrà onlus \nUn tappeto circolare attorno al quale i bambini sono invitati ad accomodarsi; accanto a loro silenziosi ospiti: i libri. Ogni libro è accompagnato da un misterioso “bagaglio a mano”\, aprirlo sarà come entrare in uno spazio intimo che invita alla relazione vicina\, muove curiosità e mette in moto i sensi. Lo scopo è quella di rendere i libri vivi e di chiamare in causa ciascuno degli ascoltatori in prima persona partendo dall’idea che “mettersi nei panni dell’altro” è il meccanismo alla base della fruizione letteraria. Il gusto dell’ascolto e la capacità di immedesimarsi nelle vicende che verranno lette e raccontate\, oltre che promuovere effettivamente le nostre competenze emotive\, ci permetterà di indagare le differenze culturali\, di genere\, personali\, d’età\, lasciando le parole a far da specchio\, o da ponte tra noi e l’altro. \n
URL:http://crescereleggendo.it/evento/facciamo-che-ero-libri-storie-e-altri-bagagli-a-mano-64/
LOCATION:biblioteca di Staranzano
CATEGORIES:PERCORSO con Damatrà onlus
END:VEVENT
BEGIN:VEVENT
DTSTART;VALUE=DATE:20170330
DTEND;VALUE=DATE:20170331
DTSTAMP:20260423T123059
CREATED:20170328T093516Z
LAST-MODIFIED:20170328T093516Z
UID:6259-1490832000-1490918399@crescereleggendo.it
SUMMARY:LA MACIA DEI LIBRI
DESCRIPTION:LA MACIA DEI LIBRI in programma nelle giornate del 30\, 31 marzo e 1 aprile con protagonista Beatrice Masini. \nProgetto di Se.Bi.Co. (Servizio Bibliotecario dello Spilimberghese) coordinato da Livio Vianello\, in accordo con Crescere Leggendo 6-12 anni e Youngster 12-18 anni (Damatrà onlus)\, con la partecipazione del Progetto Giovani. \n \n
URL:http://crescereleggendo.it/evento/la-macia-dei-libri/
CATEGORIES:ALTRE ATTIVITÀ
END:VEVENT
BEGIN:VEVENT
DTSTART;TZID=Europe/Rome:20170330T160000
DTEND;TZID=Europe/Rome:20170330T173000
DTSTAMP:20260423T123059
CREATED:20170309T153532Z
LAST-MODIFIED:20170309T153554Z
UID:6179-1490889600-1490895000@crescereleggendo.it
SUMMARY:NEI PANNI DEGLI ALTRI
DESCRIPTION:Aggiornamento a cura di Damatrà onlus\nper gli insegnanti della scuola dell’infanzia e primaria \nApprofondimento incentrato sulla bibliografia legata al tema guida ‘Nei panni degli altri’ edizione in corso di Crescere Leggendo\, con un focus sulla lettura inclusiva\, in particolare legato ai silent books. \nIniziativa organizzata dalla Biblioteca comunale di Staranzano\, in collaborazione con l’Istituto Comprensivo\, rivolta agli insegnanti delle scuole del territorio \ninfo nel volantino: formazione CREL staranzano 30marzo2017 \n
URL:http://crescereleggendo.it/evento/nei-panni-degli-altri-2/
LOCATION:biblioteca di Staranzano
CATEGORIES:FORMAZIONE
END:VEVENT
END:VCALENDAR