BEGIN:VCALENDAR
VERSION:2.0
PRODID:-//Crescere Leggendo - ECPv4.9.12//NONSGML v1.0//EN
CALSCALE:GREGORIAN
METHOD:PUBLISH
X-WR-CALNAME:Crescere Leggendo
X-ORIGINAL-URL:http://crescereleggendo.it
X-WR-CALDESC:Eventi per Crescere Leggendo
BEGIN:VTIMEZONE
TZID:Europe/Rome
BEGIN:DAYLIGHT
TZOFFSETFROM:+0100
TZOFFSETTO:+0200
TZNAME:CEST
DTSTART:20170326T010000
END:DAYLIGHT
BEGIN:STANDARD
TZOFFSETFROM:+0200
TZOFFSETTO:+0100
TZNAME:CET
DTSTART:20171029T010000
END:STANDARD
END:VTIMEZONE
BEGIN:VEVENT
DTSTART;VALUE=DATE:20170331
DTEND;VALUE=DATE:20170401
DTSTAMP:20260423T105110
CREATED:20170221T112851Z
LAST-MODIFIED:20170221T112851Z
UID:6081-1490918400-1491004799@crescereleggendo.it
SUMMARY:FACCIAMO CHE ERO bookspot
DESCRIPTION:Incontri in biblioteca o a scuola con le classi prime della scuola secondaria di primo grado a cura di Damatrà onlus \nIncursioni letterarie e assaggi di libri tratti dalla bibliografia del progetto. \n Attività all’interno del progetto Abitanti di Storie – progetto per promuovere la cultura dell’ascolto e della narrazione realizzato dalle biblioteche del Sistema Bibliotecario del Basso Friuli insieme a Damatrà onlus\, con il contributo della Regione Friuli Venezia Giulia – L.R. 23/2015 e con la collaborazione di Crescere Leggendo 6^ edizione – AIB e Damatrà onlus / Associazione culturale 0432 / progetto TIG e domeniche a teatro del CSS – Teatro stabile di innovazione del Friuli Venezia Giulia / Teatro Pasolini e Casa della Musica di Cervignano del Friuli \nIl progetto coinvolge gli abitanti dei Comuni del Sistema Bibliotecario del Basso\nFriuli (Cervignano del Friuli\, Aiello del Friuli\, Aquileia\, Campolongo Tapogliano\,\nFiumicello\, San Vito al Torre\, Terzo di Aquileia\, Villa Vicentina\, Visco) \n
URL:http://crescereleggendo.it/evento/facciamo-che-ero-bookspot-12/
LOCATION:biblioteca di Cervignano del Friuli
CATEGORIES:PERCORSO con Damatrà onlus
END:VEVENT
BEGIN:VEVENT
DTSTART;VALUE=DATE:20170331
DTEND;VALUE=DATE:20170401
DTSTAMP:20260423T105110
CREATED:20170306T110323Z
LAST-MODIFIED:20170306T110323Z
UID:6156-1490918400-1491004799@crescereleggendo.it
SUMMARY:FACCIAMO CHE ERO… / LIBRI\, STORIE E ALTRI BAGAGLI A MANO
DESCRIPTION:Incontri in biblioteca o a scuola per tutte le classi della scuola primaria e classe I della scuola secondaria di primo grado\n(con bibliografie differenziate in base all’età dei bambini)\na cura di Damatrà onlus \nUn tappeto circolare attorno al quale i bambini sono invitati ad accomodarsi; accanto a loro silenziosi ospiti: i libri. Ogni libro è accompagnato da un misterioso “bagaglio a mano”\, aprirlo sarà come entrare in uno spazio intimo che invita alla relazione vicina\, muove curiosità e mette in moto i sensi. Lo scopo è quella di rendere i libri vivi e di chiamare in causa ciascuno degli ascoltatori in prima persona partendo dall’idea che “mettersi nei panni dell’altro” è il meccanismo alla base della fruizione letteraria. Il gusto dell’ascolto e la capacità di immedesimarsi nelle vicende che verranno lette e raccontate\, oltre che promuovere effettivamente le nostre competenze emotive\, ci permetterà di indagare le differenze culturali\, di genere\, personali\, d’età\, lasciando le parole a far da specchio\, o da ponte tra noi e l’altro. \n
URL:http://crescereleggendo.it/evento/facciamo-che-ero-libri-storie-e-altri-bagagli-a-mano-67/
LOCATION:biblioteca di Manzano
CATEGORIES:PERCORSO con Damatrà onlus
END:VEVENT
BEGIN:VEVENT
DTSTART;VALUE=DATE:20170331
DTEND;VALUE=DATE:20170401
DTSTAMP:20260423T105110
CREATED:20170306T110622Z
LAST-MODIFIED:20170306T110622Z
UID:6160-1490918400-1491004799@crescereleggendo.it
SUMMARY:FACCIAMO CHE ERO bookspot
DESCRIPTION:Incontri in biblioteca o a scuola con le classi prime della scuola secondaria di primo grado a cura di Damatrà onlus \nIncursioni letterarie e assaggi di libri tratti dalla bibliografia del progetto. \n
URL:http://crescereleggendo.it/evento/facciamo-che-ero-bookspot-14/
LOCATION:scuola primaria di Tavagnacco
CATEGORIES:PERCORSO con Damatrà onlus
END:VEVENT
BEGIN:VEVENT
DTSTART;VALUE=DATE:20170331
DTEND;VALUE=DATE:20170401
DTSTAMP:20260423T105110
CREATED:20170328T093636Z
LAST-MODIFIED:20170328T093636Z
UID:6262-1490918400-1491004799@crescereleggendo.it
SUMMARY:LA MACIA DEI LIBRI
DESCRIPTION:LA MACIA DEI LIBRI in programma nelle giornate del 30\, 31 marzo e 1 aprile con protagonista Beatrice Masini. \nProgetto di Se.Bi.Co. (Servizio Bibliotecario dello Spilimberghese) coordinato da Livio Vianello\, in accordo con Crescere Leggendo 6-12 anni e Youngster 12-18 anni (Damatrà onlus)\, con la partecipazione del Progetto Giovani. \n \n
URL:http://crescereleggendo.it/evento/la-macia-dei-libri-2/
CATEGORIES:ALTRE ATTIVITÀ
END:VEVENT
BEGIN:VEVENT
DTSTART;TZID=Europe/Rome:20170331T170000
DTEND;TZID=Europe/Rome:20170331T183000
DTSTAMP:20260423T105110
CREATED:20170223T121541Z
LAST-MODIFIED:20170223T121541Z
UID:6113-1490979600-1490985000@crescereleggendo.it
SUMMARY:STORIE PER CRESCERE
DESCRIPTION:Libri per tutti i gusti\, da ascoltare e assaggiare. Per bambini e ragazzi dai 7 agli 11 anni. \npresso la Biblioteca Civica di Pradamano\nvia F. Renati\, 9 – Pradamano – tel 0432 671102 \nIngresso libero e gratuito\, fino ad esaurimento posti. Non è necessaria la prenotazione.\nIniziativa organizzata dal Sistema Bibliotecario di Udine e dell’Hinterland Udinese SBHU \ntutti i dettagli nel volantino: STORIE PER CRESCERE \n
URL:http://crescereleggendo.it/evento/storie-per-crescere-2/
CATEGORIES:ALTRE ATTIVITÀ
END:VEVENT
END:VCALENDAR