BEGIN:VCALENDAR
VERSION:2.0
PRODID:-//Crescere Leggendo - ECPv4.9.12//NONSGML v1.0//EN
CALSCALE:GREGORIAN
METHOD:PUBLISH
X-WR-CALNAME:Crescere Leggendo
X-ORIGINAL-URL:http://crescereleggendo.it
X-WR-CALDESC:Eventi per Crescere Leggendo
BEGIN:VTIMEZONE
TZID:Europe/Rome
BEGIN:DAYLIGHT
TZOFFSETFROM:+0100
TZOFFSETTO:+0200
TZNAME:CEST
DTSTART:20170326T010000
END:DAYLIGHT
BEGIN:STANDARD
TZOFFSETFROM:+0200
TZOFFSETTO:+0100
TZNAME:CET
DTSTART:20171029T010000
END:STANDARD
END:VTIMEZONE
BEGIN:VEVENT
DTSTART;TZID=Europe/Rome:20170907T090000
DTEND;TZID=Europe/Rome:20170907T170000
DTSTAMP:20260421T112945
CREATED:20170629T080118Z
LAST-MODIFIED:20170718T120141Z
UID:6495-1504774800-1504803600@crescereleggendo.it
SUMMARY:IL CORAGGIO… VIEN LEGGENDO - Strumenti e metodi tra biblioteca e scuola
DESCRIPTION:Giornata di formazione che rappresenta l’avvio ufficiale della settima edizione di Crescere Leggendo\, il cui tema guida per il nuovo anno scolastico è Il coraggio… vien leggendo\, quella risorsa intima che risiede in ognuno di noi e che ritroviamo in tantissime storie custodite fedelmente nei libri. Sono racconti che\, come una lanterna preziosa\, illuminano il cammino di ogni lettore …e pagina dopo pagina si vince anche la paura della lettura! L’obbiettivo del corso è fornire ai docenti idee e percorsi bibliografici da usare in modo operativo in classe. I relatori saranno Caterina Ramonda\, bibliotecaria ed esperta di letteratura per ragazzi e Domenico Barillà\, psicologo ed esperto di relazioni con l’infanzia. \ngiovedì 7 settembre 2017\, due sessioni plenarie: dalle 9.15 alle 13.00 e dalle 14.30 alle 17.00\, presso la sala convegni – CRO Aviano\, via Franco Gallini\, 2\nrivolto ai docenti di scuola primaria e secondaria di 1° grado \nScadenza termine iscrizione: 18 agosto 2017.\nScheda corso: formazione IL CORAGGIO VIEN LEGGENDO Aviano 7 settembre 2017\nScheda da reinviare compilata a biblioteca@comune.aviano.pn.it : scheda_pre-iscrizione \nIl personale della Biblioteca Civica di Aviano\, segreteria organizzativa dell’iniziativa\, resta a disposizione per ogni informazione.\ninfo:\nBiblioteca: v.le S. Giorgio n. 19 – 33081 Aviano (PN)\ntel 0434 652492  e-mail: biblioteca@comune.aviano.pn.it\norario di apertura: dal martedì al venerdì 15.00-19.00  sabato 10.00-12.30 15.00-19.00 \n
URL:http://crescereleggendo.it/evento/il-coraggio-vien-leggendo-strumenti-e-metodi-tra-biblioteca-e-scuola/
LOCATION:Aviano
CATEGORIES:FORMAZIONE
END:VEVENT
END:VCALENDAR