BEGIN:VCALENDAR
VERSION:2.0
PRODID:-//Crescere Leggendo - ECPv4.9.12//NONSGML v1.0//EN
CALSCALE:GREGORIAN
METHOD:PUBLISH
X-WR-CALNAME:Crescere Leggendo
X-ORIGINAL-URL:http://crescereleggendo.it
X-WR-CALDESC:Eventi per Crescere Leggendo
BEGIN:VTIMEZONE
TZID:Europe/Rome
BEGIN:DAYLIGHT
TZOFFSETFROM:+0100
TZOFFSETTO:+0200
TZNAME:CEST
DTSTART:20180325T010000
END:DAYLIGHT
BEGIN:STANDARD
TZOFFSETFROM:+0200
TZOFFSETTO:+0100
TZNAME:CET
DTSTART:20181028T010000
END:STANDARD
END:VTIMEZONE
BEGIN:VEVENT
DTSTART;TZID=Europe/Rome:20180719T204500
DTEND;TZID=Europe/Rome:20180719T223000
DTSTAMP:20260420T074326
CREATED:20180703T145407Z
LAST-MODIFIED:20180703T145723Z
UID:7503-1532033100-1532039400@crescereleggendo.it
SUMMARY:Il coraggio di andar per stelle e storie
DESCRIPTION:La coda estiva della settima edizione di Crescere Leggendo/Il coraggio vien leggendo\nci accompagna\, con il fresco della sera\, alla lettura animata ‘Il coraggio di andar per stelle e storie’! \nPartecipazione libera e gratuita\, per bambini dai 6 ai 99 anni\, a cura di Damatrà onlus. \nRitrovo: nella Corte interna del Palazzo comunale e passeggiata fino al Castello.\nUna storia: quella di Dedalo e Icaro. Un intreccio di vite che è come un labirinto.\nUn viaggio: che dalla biblioteca sale sul castello per osservare\, assieme all’esperto Gabriele Cralli\, la volta celeste. \nL’iniziativa ‘ESTATE IN FESTA con Crescere Leggendo‘\, rientra all’interno della rassegna estiva organizzata dall’Amministrazione comunale di Manzano in collaborazione con la Biblioteca. \nInfo: Biblioteca Caterina Percoto\, via Natisone n.34\, Manzano\, tel: 0432.938367 \n
URL:http://crescereleggendo.it/evento/il-coraggio-di-andar-per-stelle-e-storie/
LOCATION:Manzano
CATEGORIES:LETTURE con Damatrà onlus
END:VEVENT
END:VCALENDAR