BEGIN:VCALENDAR
VERSION:2.0
PRODID:-//Crescere Leggendo - ECPv4.9.12//NONSGML v1.0//EN
CALSCALE:GREGORIAN
METHOD:PUBLISH
X-WR-CALNAME:Crescere Leggendo
X-ORIGINAL-URL:http://crescereleggendo.it
X-WR-CALDESC:Eventi per Crescere Leggendo
BEGIN:VTIMEZONE
TZID:Europe/Rome
BEGIN:DAYLIGHT
TZOFFSETFROM:+0100
TZOFFSETTO:+0200
TZNAME:CEST
DTSTART:20180325T010000
END:DAYLIGHT
BEGIN:STANDARD
TZOFFSETFROM:+0200
TZOFFSETTO:+0100
TZNAME:CET
DTSTART:20181028T010000
END:STANDARD
END:VTIMEZONE
BEGIN:VEVENT
DTSTART;VALUE=DATE:20181107
DTEND;VALUE=DATE:20181108
DTSTAMP:20260424T162138
CREATED:20181025T141416Z
LAST-MODIFIED:20181025T141416Z
UID:7721-1541548800-1541635199@crescereleggendo.it
SUMMARY:DESIDERI\, SOGNI… POESIE
DESCRIPTION:Incontri con le classi IV e V della scuola primaria e classe I scuola secondaria di primo grado – a cura di Chiara Carminati \n“La poesia è un’arma carica di futuro” dice un famoso verso di Gabriel Celaya. Speranze\, sogni e desideri prendono forma di parole e di silenzi\, in questo piccolo viaggio attraverso le poesie che guardano avanti o che provano a inventare un’altra realtà. Con la carica sovversiva del nonsense o il sorriso dei sognatori\, a partire dal titolo (e dai consigli) dello storico manuale di Kenneth Koch “Desideri sogni bugie”\, attraverso poeti di ieri e di oggi e – perché no? – provando a mettere in canna anche le nostre parole in piccoli giochi di scrittura. \n
URL:http://crescereleggendo.it/evento/desideri-sogni-poesie-7/
LOCATION:biblioteca di Rivignano
CATEGORIES:PERCORSO con Chiara Carminati
END:VEVENT
BEGIN:VEVENT
DTSTART;VALUE=DATE:20181107
DTEND;VALUE=DATE:20181108
DTSTAMP:20260424T162138
CREATED:20181105T144012Z
LAST-MODIFIED:20181105T144012Z
UID:7776-1541548800-1541635199@crescereleggendo.it
SUMMARY:LIBRI SELVATICI
DESCRIPTION:Percorso attraverso libri che fanno scoprire le nature di cui facciamo parte\, per le classi IV e V della scuola primaria e classe I della scuola secondaria di primo grado – a cura di 0432 Associazione culturale \nCome Danilo Dolci sogniamo incontri che permettano ai bambini e alle bambine di crescere e meravigliarsi. I libri sono sicuramente luoghi pieni di possibili scoperte ma anche la natura\, l’ambiente\, la città\, il giardino della biblioteca o della scuola nascondono infinite sorprese per sguardi attenti\, orecchie pronte\, menti curiose. Proponiamo quindi un incontro diviso in due parti: prima presenteremo\, attraverso letture e racconti a voce alta\, storie e immagini di esploratori letterari che ci trasmettono il piacere della ricerca\, che ci insegnano come essere pronti a cogliere l’inaspettato intorno a noi. Poi\, aiutati da un piccoli quaderno per esploratori\, usciremo alla caccia di scoperte grandi e piccole. Potremo così sentirci un pò Tom Sawyer\, un pò Calpurnia\, un pò esploratori tra pagine e realtà e vedere con i nostri occhi come anche il giardino della scuola o della biblioteca\, una via della città o del paese in cui abitiamo\, nascondono sorprese inaspettate. \n
URL:http://crescereleggendo.it/evento/libri-selvatici-4/
LOCATION:biblioteca di Spilimbergo
CATEGORIES:Attività con Associazione culturale 0432
END:VEVENT
BEGIN:VEVENT
DTSTART;VALUE=DATE:20181107
DTEND;VALUE=DATE:20181108
DTSTAMP:20260424T162138
CREATED:20181106T153625Z
LAST-MODIFIED:20181106T153625Z
UID:7850-1541548800-1541635199@crescereleggendo.it
SUMMARY:LA TRIBÙ CHE LEGGE
DESCRIPTION:Progetto continuità tra la scuola dell’infanzia\, la scuola primaria e la scuola secondaria di primo grado – a cura di Damatrà onlus \nLa tribù che legge nasce per dare valore alla comunità dei lettori che stanno crescendo\, chiamandoli ad animare insieme un accampamento di libri e letture in cui il piacere di leggere si trasmette dai più grandi ai più piccoli.\nIl percorso si realizza in tre appuntamenti per un totale di 6 ore di attività e\, partendo dalla presentazione di una selezione delle migliori proposte librarie di Crescere Leggendo dal 2010 a oggi\, arriva all’allestimento di tende igloo in cui bambini e bambine presentano in maniera autogestita i loro libri preferiti. Un accampamento di storie per stare a tu per tu con chi legge\, chi non legge e chi leggerà. \n
URL:http://crescereleggendo.it/evento/la-tribu-che-legge-15/
LOCATION:Medea
CATEGORIES:PERCORSO con Damatrà onlus
END:VEVENT
END:VCALENDAR