BEGIN:VCALENDAR
VERSION:2.0
PRODID:-//Crescere Leggendo - ECPv4.9.12//NONSGML v1.0//EN
CALSCALE:GREGORIAN
METHOD:PUBLISH
X-WR-CALNAME:Crescere Leggendo
X-ORIGINAL-URL:http://crescereleggendo.it
X-WR-CALDESC:Eventi per Crescere Leggendo
BEGIN:VTIMEZONE
TZID:Europe/Rome
BEGIN:DAYLIGHT
TZOFFSETFROM:+0100
TZOFFSETTO:+0200
TZNAME:CEST
DTSTART:20230326T010000
END:DAYLIGHT
BEGIN:STANDARD
TZOFFSETFROM:+0200
TZOFFSETTO:+0100
TZNAME:CET
DTSTART:20231029T010000
END:STANDARD
END:VTIMEZONE
BEGIN:VEVENT
DTSTART;TZID=Europe/Rome:20231206T160000
DTEND;TZID=Europe/Rome:20231206T190000
DTSTAMP:20260423T041632
CREATED:20231114T103918Z
LAST-MODIFIED:20231114T103918Z
UID:11160-1701878400-1701889200@crescereleggendo.it
SUMMARY:+ LEGGI + CRESCI: 6 dicembre 2023 Udine
DESCRIPTION:Le Giornate regionali di formazione di Crescere Leggendo (quest’anno saranno due!)\, sono rivolte ai docenti delle scuole dell’infanzia\, primaria e secondaria di primo grado\, operatori culturali\, bibliotecari\, librai\, lettori volontari e studenti in scienze della formazione: \nAnche quest’anno il progetto Crescere Leggendo prende il via dall’insegnamento di Jella Lepman\, che vedeva i libri come ponti tra gli esseri umani\, e che sarà ricordata proprio a Trieste nel prossimo Congresso Internazionale di Ibby dal titolo Join the revolution! Giving every child good books. Un incitamento allegro a condividere la piccola grande rivoluzione che può cominciare quando si mettono i buoni libri in mano ai bambini. Una rivoluzione lenta\, pacifica e colorata\, che conta con speranza sulle generazioni future e sulla loro capacità di convivenza\, tolleranza e comprensione reciproca. Un invito a coltivare quotidianamente la rivoluzione di carta\, resa possibile dall’incontro tra i libri e i loro lettori. \n2° appuntamento\nMercoledì 6 Dicembre 2023 | Ore 16.00 – 19.00\nUDINE\, Teatro Palamostre\nPiazzale Paolo Diacono 21 \nA Udine saranno con noi:\nDavide Morosinotto\nMi ha cambiato la vita\nLuigi D’Elia\nCammelli a Barbiana – Don Lorenzo Milani e la sua scuola \nIscriviti alla formazione a Udine \nLe giornate di formazione regionale Crescere Leggendo si realizzano nell’ambito del progetto regionale di educazione alla lettura Leggiamo 0-18 \n
URL:http://crescereleggendo.it/evento/leggi-cresci-6-dicembre-2023-udine/
CATEGORIES:FORMAZIONE
END:VEVENT
END:VCALENDAR