BEGIN:VCALENDAR
VERSION:2.0
PRODID:-//Crescere Leggendo - ECPv4.9.12//NONSGML v1.0//EN
CALSCALE:GREGORIAN
METHOD:PUBLISH
X-WR-CALNAME:Crescere Leggendo
X-ORIGINAL-URL:http://crescereleggendo.it
X-WR-CALDESC:Eventi per Crescere Leggendo
BEGIN:VTIMEZONE
TZID:Europe/Rome
BEGIN:DAYLIGHT
TZOFFSETFROM:+0100
TZOFFSETTO:+0200
TZNAME:CEST
DTSTART:20240331T010000
END:DAYLIGHT
BEGIN:STANDARD
TZOFFSETFROM:+0200
TZOFFSETTO:+0100
TZNAME:CET
DTSTART:20241027T010000
END:STANDARD
END:VTIMEZONE
BEGIN:VEVENT
DTSTART;VALUE=DATE:20241107
DTEND;VALUE=DATE:20241108
DTSTAMP:20260425T150352
CREATED:20250731T113629Z
LAST-MODIFIED:20250731T113629Z
UID:11655-1730937600-1731023999@crescereleggendo.it
SUMMARY:TRACCIAMOCI
DESCRIPTION:per le classi dalla prima alla quinta della scuola primaria\nA cura di 0432 Associazione Culturale  \nPiccolo inventario degli incontri tra infanzie e nature \nCi sono infinite tracce intorno a noi: impronte\, segni lasciati per definire un territorio\, costruzioni\, giochi\, rifugi\, scie…\nAlcune tracce sono lasciate volontariamente\, altre sono inconsapevoli; alcune\, effimere\, durano il tempo di una notte\, altre resistono per secoli.\nCi sono tracce buone\, utili\, altre invece dannose come il veleno.\nAttraverso narrazioni calibrate in base all’età dei partecipanti\, andremo alla scoperta di un catalogo di tracce tra libri\, immagini proiettate e musiche. Un viaggio a fisarmonica tra parole e immaginari che raccontano di come si intrecciano infanzie e nature\, fino ad arrivare all’idea di impronta ecologica. Cosa comporta il nostro passare (non lieve) su questa terra?\nPossiamo scegliere e agire modi più leggeri di farlo? \n
URL:http://crescereleggendo.it/evento/tracciamoci-2/
LOCATION:Prata di Pordenone
CATEGORIES:Attività con Associazione culturale 0432
END:VEVENT
END:VCALENDAR