BEGIN:VCALENDAR
VERSION:2.0
PRODID:-//Crescere Leggendo - ECPv4.9.12//NONSGML v1.0//EN
CALSCALE:GREGORIAN
METHOD:PUBLISH
X-WR-CALNAME:Crescere Leggendo
X-ORIGINAL-URL:http://crescereleggendo.it
X-WR-CALDESC:Eventi per Crescere Leggendo
BEGIN:VTIMEZONE
TZID:Europe/Rome
BEGIN:DAYLIGHT
TZOFFSETFROM:+0100
TZOFFSETTO:+0200
TZNAME:CEST
DTSTART:20240331T010000
END:DAYLIGHT
BEGIN:STANDARD
TZOFFSETFROM:+0200
TZOFFSETTO:+0100
TZNAME:CET
DTSTART:20241027T010000
END:STANDARD
END:VTIMEZONE
BEGIN:VEVENT
DTSTART;TZID=Europe/Rome:20241111T164500
DTEND;TZID=Europe/Rome:20241111T184500
DTSTAMP:20260425T215649
CREATED:20241014T103605Z
LAST-MODIFIED:20241014T103605Z
UID:11529-1731343500-1731350700@crescereleggendo.it
SUMMARY:incontro di aggiornamento bibliofilmografico
DESCRIPTION:Arrivano gli incontri di aggiornamento bibliofilmografico rivolti ai docenti\, bibliotecari e operatori culturali coinvolti nel progetto\, in cui verranno presentati i libri e i film selezionati nella bibliografia tematica della 14^ edizione di Crescere Leggendo 6/11 anni. \nA cura di Damatrà onlus\, Manuela Malisano della Libreria W.Meister & co insieme ad un operatore specializzato del Sistema delle Mediateche del Friuli Venezia Giulia. \nlunedì 11 novembre 2024\nDalle ore 16.45 alle 18.45\nCASARSA DELLA DELIZIA\, Biblioteca\, Via Risorgimento 2\nPosti limitati\, prenotazione consigliata\nPer iscrizioni inviare una mail a: cultura@comune.casarsadelladelizia.pn.it\ninfo complete qui \n
URL:http://crescereleggendo.it/evento/incontro-di-aggiornamento-bibliofilmografico-3/
LOCATION:Biblioteca di Casarsa della Delizia
CATEGORIES:FORMAZIONE
END:VEVENT
END:VCALENDAR