BEGIN:VCALENDAR
VERSION:2.0
PRODID:-//Crescere Leggendo - ECPv4.9.12//NONSGML v1.0//EN
CALSCALE:GREGORIAN
METHOD:PUBLISH
X-WR-CALNAME:Crescere Leggendo
X-ORIGINAL-URL:http://crescereleggendo.it
X-WR-CALDESC:Eventi per Crescere Leggendo
BEGIN:VTIMEZONE
TZID:Europe/Rome
BEGIN:DAYLIGHT
TZOFFSETFROM:+0100
TZOFFSETTO:+0200
TZNAME:CEST
DTSTART:20180325T010000
END:DAYLIGHT
BEGIN:STANDARD
TZOFFSETFROM:+0200
TZOFFSETTO:+0100
TZNAME:CET
DTSTART:20181028T010000
END:STANDARD
END:VTIMEZONE
BEGIN:VEVENT
DTSTART;VALUE=DATE:20180202
DTEND;VALUE=DATE:20180203
DTSTAMP:20260423T001828
CREATED:20180207T095541Z
LAST-MODIFIED:20180207T095541Z
UID:7150-1517529600-1517615999@crescereleggendo.it
SUMMARY:PICCOLA ANATOMIA DEL CORAGGIO
DESCRIPTION:Per tutte le classi della scuola primaria con proposte bibliografiche differenziate in base all’età\na cura di Damatrà onlus \nDove sta di casa il coraggio? E quante forme ha? A queste domande ogni bambino risponderà a modo suo perché l’obiettivo del percorso è che ciascuno dei partecipanti trasformi la bibliografia ufficiale della settima edizione di Crescere Leggendo in una personale bibliografia emotiva\, diversa per ognuno. I libri che verranno presentati sono stati scelti pensando a chi legge\, a chi non legge e a chi leggerà perché più importanti dei libri sono i lettori\, ognuno dei quali sarà chiamato a compilare una mappa del proprio coraggio. Una sagoma completamente bianca si trasformerà cammin facendo in una memoria sensoriale che offrirà ulteriori spunti per percorsi d’approfondimento in classe. \nAttività all’interno del progetto Abitanti di Storie InBiblio – Il coraggio vien leggendo \n
URL:http://crescereleggendo.it/evento/piccola-anatomia-del-coraggio-36/
LOCATION:biblioteca di Terzo di Aquileia
CATEGORIES:PERCORSO con Damatrà onlus
END:VEVENT
END:VCALENDAR