BEGIN:VCALENDAR
VERSION:2.0
PRODID:-//Crescere Leggendo - ECPv4.9.12//NONSGML v1.0//EN
CALSCALE:GREGORIAN
METHOD:PUBLISH
X-WR-CALNAME:Crescere Leggendo
X-ORIGINAL-URL:http://crescereleggendo.it
X-WR-CALDESC:Eventi per Crescere Leggendo
BEGIN:VTIMEZONE
TZID:Europe/Rome
BEGIN:DAYLIGHT
TZOFFSETFROM:+0100
TZOFFSETTO:+0200
TZNAME:CEST
DTSTART:20180325T010000
END:DAYLIGHT
BEGIN:STANDARD
TZOFFSETFROM:+0200
TZOFFSETTO:+0100
TZNAME:CET
DTSTART:20181028T010000
END:STANDARD
END:VTIMEZONE
BEGIN:VEVENT
DTSTART;VALUE=DATE:20180412
DTEND;VALUE=DATE:20180413
DTSTAMP:20260421T072219
CREATED:20180309T143201Z
LAST-MODIFIED:20180309T143201Z
UID:7332-1523491200-1523577599@crescereleggendo.it
SUMMARY:PICCOLA ANATOMIA DEL CORAGGIO
DESCRIPTION:Per tutte le classi della scuola primaria con proposte bibliografiche differenziate in base all’età\na cura di Damatrà onlus \nDove sta di casa il coraggio? E quante forme ha? A queste domande ogni bambino risponderà a modo suo perché l’obiettivo del percorso è che ciascuno dei partecipanti trasformi la bibliografia ufficiale della settima edizione di Crescere Leggendo in una personale bibliografia emotiva\, diversa per ognuno. I libri che verranno presentati sono stati scelti pensando a chi legge\, a chi non legge e a chi leggerà perché più importanti dei libri sono i lettori\, ognuno dei quali sarà chiamato a compilare una mappa del proprio coraggio. Una sagoma completamente bianca si trasformerà cammin facendo in una memoria sensoriale che offrirà ulteriori spunti per percorsi d’approfondimento in classe. \n
URL:http://crescereleggendo.it/evento/piccola-anatomia-del-coraggio-62/
LOCATION:biblioteca di Lignano Sabbiadoro
CATEGORIES:PERCORSO con Damatrà onlus
END:VEVENT
BEGIN:VEVENT
DTSTART;TZID=Europe/Rome:20180412T170000
DTEND;TZID=Europe/Rome:20180412T183000
DTSTAMP:20260421T072219
CREATED:20180309T143916Z
LAST-MODIFIED:20180309T143916Z
UID:7336-1523552400-1523557800@crescereleggendo.it
SUMMARY:IL CORAGGIO DELLE MANI / LABORATORIO PER LE FAMIGLIE
DESCRIPTION:Laboratorio pomeridiano extrascolastico per le famiglie dei bambini che hanno partecipato in orario scolastico all’attività Il coraggio delle mani\, nelle giornate precedenti\na cura di Damatrà onlus \nIl coraggio vien leggendo!\nUn laboratorio per genitori e figli insieme\, che parte dai libri e durante il quale si alterneranno il coraggio delle storie e il coraggio delle mani.\nPer condividere il tempo del fare e per giocare a trovare gli ingredienti giusti per nuove pagine da raccontare! \n
URL:http://crescereleggendo.it/evento/il-coraggio-delle-mani-laboratorio-per-le-famiglie/
LOCATION:scuola primaria di Mediis
CATEGORIES:PERCORSO con Damatrà onlus
END:VEVENT
END:VCALENDAR