BEGIN:VCALENDAR
VERSION:2.0
PRODID:-//Crescere Leggendo - ECPv4.9.12//NONSGML v1.0//EN
CALSCALE:GREGORIAN
METHOD:PUBLISH
X-WR-CALNAME:Crescere Leggendo
X-ORIGINAL-URL:http://crescereleggendo.it
X-WR-CALDESC:Eventi per Crescere Leggendo
BEGIN:VTIMEZONE
TZID:Europe/Rome
BEGIN:DAYLIGHT
TZOFFSETFROM:+0100
TZOFFSETTO:+0200
TZNAME:CEST
DTSTART:20180325T010000
END:DAYLIGHT
BEGIN:STANDARD
TZOFFSETFROM:+0200
TZOFFSETTO:+0100
TZNAME:CET
DTSTART:20181028T010000
END:STANDARD
END:VTIMEZONE
BEGIN:VEVENT
DTSTART;VALUE=DATE:20180111
DTEND;VALUE=DATE:20180112
DTSTAMP:20260425T141851
CREATED:20180124T071923Z
LAST-MODIFIED:20180124T072303Z
UID:7024-1515628800-1515715199@crescereleggendo.it
SUMMARY:IO NON HO PAURA
DESCRIPTION:Incontri riservati alle scuole primarie di Tolmezzo\na cura di Luca Zalateu \nPer affrontare la paura bisogna darle il giusto peso ed avere il coraggio di andare oltre ed evolvere. La letteratura per ragazzi è uno scrigno di personaggi coraggiosi e Jim Hawkins è uno di loro; il suo coraggio è un misto di incoscienza\, sprezzo del pericolo\, lungimiranza\, rispetto per il prossimo e per la parola data. \nL’eroe creato da Stevenson è il personaggio guida del progetto e accompagnerà i giovani lettori attraverso storie dove affrontare e superare l’ignoto\, la sfida ed il rischio\, ma anche dove provare emozioni delicate e sfumate che passano inosservate nella vita di ogni giorno. \nIl progetto si propone di aiutare i bambini a “stare con la storia” e non ridurre la lettura a “un luogo dove proiettarsi”. Attraverso una lettura “espressivo-letteraria” che fa sentire il linguaggio e le peculiarità della scrittura\, i giovani lettori verranno condotti a cogliere il significato più profondo\, i dettagli di senso che l’autore ha saputo seminare e che lo sguardo attento e riflessivo riesce a cogliere permettendo alla storia stessa di prendere forma dentro la mente di chi legge. Quando questo accade solitamente si accende la motivazione ed il coraggio di leggere ancora. \n
URL:http://crescereleggendo.it/evento/io-non-ho-paura-2/
LOCATION:Tolmezzo
CATEGORIES:percorso con Luca Zalateu
END:VEVENT
END:VCALENDAR