BEGIN:VCALENDAR
VERSION:2.0
PRODID:-//Crescere Leggendo - ECPv4.9.12//NONSGML v1.0//EN
CALSCALE:GREGORIAN
METHOD:PUBLISH
X-WR-CALNAME:Crescere Leggendo
X-ORIGINAL-URL:http://crescereleggendo.it
X-WR-CALDESC:Eventi per Crescere Leggendo
BEGIN:VTIMEZONE
TZID:Europe/Rome
BEGIN:DAYLIGHT
TZOFFSETFROM:+0100
TZOFFSETTO:+0200
TZNAME:CEST
DTSTART:20140330T010000
END:DAYLIGHT
BEGIN:STANDARD
TZOFFSETFROM:+0200
TZOFFSETTO:+0100
TZNAME:CET
DTSTART:20141026T010000
END:STANDARD
END:VTIMEZONE
BEGIN:VEVENT
DTSTART;VALUE=DATE:20141209
DTEND;VALUE=DATE:20141210
DTSTAMP:20260421T085845
CREATED:20141202T154418Z
LAST-MODIFIED:20141202T154418Z
UID:2688-1418083200-1418169599@crescereleggendo.it
SUMMARY:Piacere Galileo\, Galileo Galilei
DESCRIPTION:Letture per le classi del secondo ciclo della scuola primaria\na cura di Livio Vianello\nAttraverso la lettura ad alta voce di alcuni libri (“La voce delle stelle” di Laura Walter\, “Messaggero delle stelle” di Peter Sis) entreremo nella biografia del celeberrimo scienziato italiano\, secondo alcuni il più grande scienziato “perché prima di lui la gente guardava il mondo e vedeva una cosa\, e dopo il suo passaggio ne vide un’altra”. Uno scienziato che ha cambiato il nostro modo di guardare le cose e ragionare sul mondo. \n
URL:http://crescereleggendo.it/evento/piacere-galileo-galileo-galilei/
LOCATION:biblioteca di San Giorgio di Nogaro
CATEGORIES:PERCORSO con Livio Vianello
END:VEVENT
END:VCALENDAR